BEGIN:VCALENDAR
VERSION:2.0
PRODID:-//PYVOBJECT//NONSGML Version 1//EN
BEGIN:VEVENT
UID:23261:8121
DTSTART:20240601T000000
DTEND:20240930T000000
DESCRIPTION:Denken Sie bei der Reisevorbereitung auch an eine Reiseapotheke
 .\nWer auf Reisen geht\, sollte für alle Eventualitäten gerüstet sein. 
 Beim Packen sollte deshalb immer an eine kleine Reiseapotheke gedacht werd
 en. Hier ein paar Ratschläge:\nReiseübelkeit? Hier kann Ingwer überaus 
 hilfreich sein. In der Apotheke sind aber auch Präparate mit dem Wirkstof
 f Dimenhydrinat erhältlich - praktischerweise in Kaugummiform. Aber Vorsi
 cht: Da der Wirkstoff müde machen kann\, eignet er sich nicht für Mensch
 en\, die am Steuer sitzen.\nErkältung? Sie kann einen auch in warmen Län
 dern erwischen. Deshalb sollten ein abschwellendes Nasenspray\, Ohrentropf
 en\, ein Schmerzmittel und ein Hustenstiller eingepackt werden. Und vielle
 icht ist auch noch für ein paar Taschentücher Platz.\nSonnenbrand? Wenn 
 die Reise an sonnige Orte oder in die Berge führt\, sollten Sie ein Sonne
 nschutzprodukt (mit hohem) Lichtschutzfaktor einpacken. Falls es doch zum 
 Sonnenbrand kommt\, hilft ein kühlendes\, wasserhaltiges After-Sun-Gel au
 s der Apotheke.\nDauermedikamente? Wer verschreibungspflichtige Medikament
 e benötigt\, sollte sich rechtzeitig vor dem Urlaub eine neue Verordnung 
 vom Arzt/von der Ärztin ausstellen lassen. Da Koffer bekanntlich manchmal
  verloren gehen\, sollte man diese besser im Handgepäck aufbewahren.\n\n
DTSTAMP:20260419T232751Z
SUMMARY:Tipps für die Reiseapotheke
END:VEVENT
END:VCALENDAR
